dset ^udelprecip_le.dat
undef 32767
options little_endian
title test
xdef 142 linear -130.0 0.5
ydef 70 linear 20.000 0.5
zdef 1 linear 1 1
tdef 348 linear 01jan1980 1mo
vars 1
precip 0 0 UDEL precip (in)
ENDVARS
